BEGIN:VCALENDAR
VERSION:2.0
PRODID:-//PWCCOA - ECPv6.15.20//NONSGML v1.0//EN
CALSCALE:GREGORIAN
METHOD:PUBLISH
X-WR-CALNAME:PWCCOA
X-ORIGINAL-URL:https://pwcchoa.com
X-WR-CALDESC:Events for PWCCOA
REFRESH-INTERVAL;VALUE=DURATION:PT1H
X-Robots-Tag:noindex
X-PUBLISHED-TTL:PT1H
BEGIN:VTIMEZONE
TZID:America/New_York
BEGIN:DAYLIGHT
TZOFFSETFROM:-0500
TZOFFSETTO:-0400
TZNAME:EDT
DTSTART:20210314T070000
END:DAYLIGHT
BEGIN:STANDARD
TZOFFSETFROM:-0400
TZOFFSETTO:-0500
TZNAME:EST
DTSTART:20211107T060000
END:STANDARD
BEGIN:DAYLIGHT
TZOFFSETFROM:-0500
TZOFFSETTO:-0400
TZNAME:EDT
DTSTART:20220313T070000
END:DAYLIGHT
BEGIN:STANDARD
TZOFFSETFROM:-0400
TZOFFSETTO:-0500
TZNAME:EST
DTSTART:20221106T060000
END:STANDARD
BEGIN:DAYLIGHT
TZOFFSETFROM:-0500
TZOFFSETTO:-0400
TZNAME:EDT
DTSTART:20230312T070000
END:DAYLIGHT
BEGIN:STANDARD
TZOFFSETFROM:-0400
TZOFFSETTO:-0500
TZNAME:EST
DTSTART:20231105T060000
END:STANDARD
END:VTIMEZONE
BEGIN:VEVENT
DTSTART;TZID=America/New_York:20221008T110000
DTEND;TZID=America/New_York:20221008T140000
DTSTAMP:20260421T071150
CREATED:20220930T154830Z
LAST-MODIFIED:20220930T154830Z
UID:827-1665226800-1665237600@pwcchoa.com
SUMMARY:Skin Care by Mary Kay: Sat. Oct. 8th. 11am-2pm (Clubhouse)
DESCRIPTION:Clubhouse Event
URL:https://pwcchoa.com/event/skin-care-by-mary-kay-sat-oct-8th-11am-2pm-clubhouse/
CATEGORIES:Clubhouse
END:VEVENT
END:VCALENDAR