BEGIN:VCALENDAR
VERSION:2.0
PRODID:-//PWCCOA - ECPv6.15.20//NONSGML v1.0//EN
CALSCALE:GREGORIAN
METHOD:PUBLISH
X-WR-CALNAME:PWCCOA
X-ORIGINAL-URL:https://pwcchoa.com
X-WR-CALDESC:Events for PWCCOA
REFRESH-INTERVAL;VALUE=DURATION:PT1H
X-Robots-Tag:noindex
X-PUBLISHED-TTL:PT1H
BEGIN:VTIMEZONE
TZID:America/New_York
BEGIN:DAYLIGHT
TZOFFSETFROM:-0500
TZOFFSETTO:-0400
TZNAME:EDT
DTSTART:20210314T070000
END:DAYLIGHT
BEGIN:STANDARD
TZOFFSETFROM:-0400
TZOFFSETTO:-0500
TZNAME:EST
DTSTART:20211107T060000
END:STANDARD
BEGIN:DAYLIGHT
TZOFFSETFROM:-0500
TZOFFSETTO:-0400
TZNAME:EDT
DTSTART:20220313T070000
END:DAYLIGHT
BEGIN:STANDARD
TZOFFSETFROM:-0400
TZOFFSETTO:-0500
TZNAME:EST
DTSTART:20221106T060000
END:STANDARD
BEGIN:DAYLIGHT
TZOFFSETFROM:-0500
TZOFFSETTO:-0400
TZNAME:EDT
DTSTART:20230312T070000
END:DAYLIGHT
BEGIN:STANDARD
TZOFFSETFROM:-0400
TZOFFSETTO:-0500
TZNAME:EST
DTSTART:20231105T060000
END:STANDARD
END:VTIMEZONE
BEGIN:VEVENT
DTSTART;TZID=America/New_York:20221015T070000
DTEND;TZID=America/New_York:20221015T170000
DTSTAMP:20260421T071237
CREATED:20220930T154359Z
LAST-MODIFIED:20220930T154420Z
UID:821-1665817200-1665853200@pwcchoa.com
SUMMARY:Community Yard Sale\, Sat. Oct. 15th
DESCRIPTION:Rain date is the 16th 7-5 Yard Sale \nPLEASE NOTE: Any directional signs can be posted but must be removed by the end of the day. \nPlease click the picture for the PDF.
URL:https://pwcchoa.com/event/community-yard-sale-sat-oct-15th/
CATEGORIES:Private
END:VEVENT
BEGIN:VEVENT
DTSTART;TZID=America/New_York:20221015T183000
DTEND;TZID=America/New_York:20221015T213000
DTSTAMP:20260421T071237
CREATED:20220930T155221Z
LAST-MODIFIED:20220930T155221Z
UID:831-1665858600-1665869400@pwcchoa.com
SUMMARY:Movie on the Green: Sat. Oct. 15th. 6:30pm-9:30pm (Amphitheater)
DESCRIPTION:Movie will start at dusk. \n 
URL:https://pwcchoa.com/event/movie-on-the-green-sat-oct-15th-630pm-930pm-amphitheater/
END:VEVENT
END:VCALENDAR