BEGIN:VCALENDAR
VERSION:2.0
PRODID:-//PWCCOA - ECPv6.15.20//NONSGML v1.0//EN
CALSCALE:GREGORIAN
METHOD:PUBLISH
X-ORIGINAL-URL:https://pwcchoa.com
X-WR-CALDESC:Events for PWCCOA
REFRESH-INTERVAL;VALUE=DURATION:PT1H
X-Robots-Tag:noindex
X-PUBLISHED-TTL:PT1H
BEGIN:VTIMEZONE
TZID:America/New_York
BEGIN:DAYLIGHT
TZOFFSETFROM:-0500
TZOFFSETTO:-0400
TZNAME:EDT
DTSTART:20220313T070000
END:DAYLIGHT
BEGIN:STANDARD
TZOFFSETFROM:-0400
TZOFFSETTO:-0500
TZNAME:EST
DTSTART:20221106T060000
END:STANDARD
BEGIN:DAYLIGHT
TZOFFSETFROM:-0500
TZOFFSETTO:-0400
TZNAME:EDT
DTSTART:20230312T070000
END:DAYLIGHT
BEGIN:STANDARD
TZOFFSETFROM:-0400
TZOFFSETTO:-0500
TZNAME:EST
DTSTART:20231105T060000
END:STANDARD
BEGIN:DAYLIGHT
TZOFFSETFROM:-0500
TZOFFSETTO:-0400
TZNAME:EDT
DTSTART:20240310T070000
END:DAYLIGHT
BEGIN:STANDARD
TZOFFSETFROM:-0400
TZOFFSETTO:-0500
TZNAME:EST
DTSTART:20241103T060000
END:STANDARD
END:VTIMEZONE
BEGIN:VEVENT
DTSTART;TZID=America/New_York:20230413T183000
DTEND;TZID=America/New_York:20230413T203000
DTSTAMP:20260421T101536
CREATED:20230226T000303Z
LAST-MODIFIED:20230226T000303Z
UID:870-1681410600-1681417800@pwcchoa.com
SUMMARY:Excelsior Choir Practice
DESCRIPTION:
URL:https://pwcchoa.com/event/excelsior-choir-practice-4/
END:VEVENT
BEGIN:VEVENT
DTSTART;TZID=America/New_York:20230420T183000
DTEND;TZID=America/New_York:20230420T203000
DTSTAMP:20260421T101536
CREATED:20230226T000338Z
LAST-MODIFIED:20230226T000338Z
UID:874-1682015400-1682022600@pwcchoa.com
SUMMARY:Excelsior Choir Practice
DESCRIPTION:
URL:https://pwcchoa.com/event/excelsior-choir-practice-5/
END:VEVENT
BEGIN:VEVENT
DTSTART;TZID=America/New_York:20230427T183000
DTEND;TZID=America/New_York:20230427T203000
DTSTAMP:20260421T101536
CREATED:20230226T000418Z
LAST-MODIFIED:20230226T000418Z
UID:878-1682620200-1682627400@pwcchoa.com
SUMMARY:Excelsior Choir Practice
DESCRIPTION:
URL:https://pwcchoa.com/event/excelsior-choir-practice-6/
END:VEVENT
END:VCALENDAR